
BEGIN:VCALENDAR
VERSION:2.0
PRODID:-//San Clemente Bahá&#039;í Center - ECPv6.10.2//NONSGML v1.0//EN
CALSCALE:GREGORIAN
METHOD:PUBLISH
X-WR-CALNAME:San Clemente Bahá&#039;í Center
X-ORIGINAL-URL:https://sanclementebahaicenter.org
X-WR-CALDESC:Events for San Clemente Bahá&#039;í Center
REFRESH-INTERVAL;VALUE=DURATION:PT1H
X-Robots-Tag:noindex
X-PUBLISHED-TTL:PT1H
BEGIN:VTIMEZONE
TZID:America/Los_Angeles
BEGIN:DAYLIGHT
TZOFFSETFROM:-0800
TZOFFSETTO:-0700
TZNAME:PDT
DTSTART:20260308T100000
END:DAYLIGHT
BEGIN:STANDARD
TZOFFSETFROM:-0700
TZOFFSETTO:-0800
TZNAME:PST
DTSTART:20261101T090000
END:STANDARD
END:VTIMEZONE
BEGIN:VEVENT
DTSTART;TZID=America/Los_Angeles:20260424T153000
DTEND;TZID=America/Los_Angeles:20260424T180000
DTSTAMP:20260424T024308
CREATED:20240424T005114Z
LAST-MODIFIED:20240619T055344Z
UID:12085-1777044600-1777053600@sanclementebahaicenter.org
SUMMARY:Piano lessons
DESCRIPTION:We provide free lessons each Friday If you are interested\, please let us know and we will get you or your child into the program as space is available.
URL:https://sanclementebahaicenter.org/event/piano-lessons-126/
END:VEVENT
END:VCALENDAR