
BEGIN:VCALENDAR
VERSION:2.0
PRODID:-//San Clemente Bahá&#039;í Center - ECPv6.10.2//NONSGML v1.0//EN
CALSCALE:GREGORIAN
METHOD:PUBLISH
X-WR-CALNAME:San Clemente Bahá&#039;í Center
X-ORIGINAL-URL:https://sanclementebahaicenter.org
X-WR-CALDESC:Events for San Clemente Bahá&#039;í Center
REFRESH-INTERVAL;VALUE=DURATION:PT1H
X-Robots-Tag:noindex
X-PUBLISHED-TTL:PT1H
BEGIN:VTIMEZONE
TZID:America/Los_Angeles
BEGIN:DAYLIGHT
TZOFFSETFROM:-0800
TZOFFSETTO:-0700
TZNAME:PDT
DTSTART:20260308T100000
END:DAYLIGHT
BEGIN:STANDARD
TZOFFSETFROM:-0700
TZOFFSETTO:-0800
TZNAME:PST
DTSTART:20261101T090000
END:STANDARD
END:VTIMEZONE
BEGIN:VEVENT
DTSTART;TZID=America/Los_Angeles:20260418T073000
DTEND;TZID=America/Los_Angeles:20260418T090000
DTSTAMP:20260420T024114
CREATED:20240418T003542Z
LAST-MODIFIED:20240619T055340Z
UID:11790-1776497400-1776502800@sanclementebahaicenter.org
SUMMARY:Morning Prayers
DESCRIPTION:Saturdays at 7:30 a.m. Light breakfast provided.
URL:https://sanclementebahaicenter.org/event/morning-prayers-123/
END:VEVENT
BEGIN:VEVENT
DTSTART;TZID=America/Los_Angeles:20260418T080000
DTEND;TZID=America/Los_Angeles:20260418T090000
DTSTAMP:20260420T024114
CREATED:20240519T042036Z
LAST-MODIFIED:20240619T055339Z
UID:13199-1776499200-1776502800@sanclementebahaicenter.org
SUMMARY:Lending Library Open
DESCRIPTION:Saturdays at 8:00 a.m. to 12:00. Come and browse our collection or check out to read at home.
URL:https://sanclementebahaicenter.org/event/lending-library-open-228/
END:VEVENT
BEGIN:VEVENT
DTSTART;TZID=America/Los_Angeles:20260418T093000
DTEND;TZID=America/Los_Angeles:20260418T110000
DTSTAMP:20260420T024114
CREATED:20240418T003539Z
LAST-MODIFIED:20240619T055342Z
UID:11788-1776504600-1776510000@sanclementebahaicenter.org
SUMMARY:Junior Youth Group
DESCRIPTION: Saturdays at 9:30 a.m.  For Youth ages 12 – 15. Fellowship\, games\, service projects\, art\, music\, food and devotions.
URL:https://sanclementebahaicenter.org/event/junior-youth-group-126/
END:VEVENT
BEGIN:VEVENT
DTSTART;TZID=America/Los_Angeles:20260418T103000
DTEND;TZID=America/Los_Angeles:20260418T113000
DTSTAMP:20260420T024114
CREATED:20240418T003536Z
LAST-MODIFIED:20240619T055341Z
UID:11787-1776508200-1776511800@sanclementebahaicenter.org
SUMMARY:Children's Classes
DESCRIPTION: Saturday mornings at 10:30 at Mendocino Apts. Fellowship\, games\, art\, music\, snacks and devotions.
URL:https://sanclementebahaicenter.org/event/childrens-classes-125/
END:VEVENT
END:VCALENDAR